BEGIN:VCALENDAR
VERSION:2.0
PRODID:icalendar-ruby
CALSCALE:GREGORIAN
METHOD:PUBLISH
BEGIN:VEVENT
DTSTAMP:20260421T105056Z
UID:20-656937@trinitybibleorovilleca.com
DTSTART:20261001T020000Z
DTEND:20261001T030000Z
CLASS:PUBLIC
CREATED:20260420T181045
DESCRIPTION:
LAST-MODIFIED:20260420T181045
LOCATION:3115 myers st 
SUMMARY:Empowered Youth
URL;VALUE=URI:https://www.trinitybibleorovilleca.com/events/empowered-youth
 /2026-09-30
ATTACH;FILENAME=1000002801.jpg;FMTTYPE=image/jpeg:https://dq5pwpg1q8ru0.clo
 udfront.net/2026/01/25/05/23/24/62f1704b-1550-4b8b-bf40-2cf7223254bb/10000
 02801.jpg
END:VEVENT
END:VCALENDAR
