BEGIN:VCALENDAR
VERSION:2.0
PRODID:icalendar-ruby
CALSCALE:GREGORIAN
METHOD:PUBLISH
BEGIN:VEVENT
DTSTAMP:20260421T124257Z
UID:20-657549@trinitybibleorovilleca.com
DTSTART:20261008T020000Z
DTEND:20261008T030000Z
CLASS:PUBLIC
CREATED:20260421T051752
DESCRIPTION:
LAST-MODIFIED:20260421T051752
LOCATION:3115 myers st 
SUMMARY:Empowered Youth
URL;VALUE=URI:https://www.trinitybibleorovilleca.com/events/empowered-youth
 /2026-10-07
ATTACH;FILENAME=1000002801.jpg;FMTTYPE=image/jpeg:https://dq5pwpg1q8ru0.clo
 udfront.net/2026/01/25/05/23/24/62f1704b-1550-4b8b-bf40-2cf7223254bb/10000
 02801.jpg
END:VEVENT
END:VCALENDAR
